Workbook
Name Slicer_Years: #N/A
Name Slicer_Years1: #N/A
Name TheCatchmentName: Parameters!$C$3

Sheet Parameters
B3: Catchment name: | C3: Name of Catchment
B6: Chart Title 1 | C6: =CONCATENATE(TheCatchmentName," Catchment - Average Monthly Actual & Potential Evapotranspiration between 2000 - 2020 (MOD16A2GF_500m)") -> Name of Catchment Catchment - Average Monthly Actual & Potential Evapotranspiration between 2000 - 2020 (MOD16A2GF_500m)
B7: Chart Title 2 | C7: =CONCATENATE(TheCatchmentName," Catchment - Monthly Evapotranspiration between 2000 - 2020 (MOD16A2GF_500m)") -> Name of Catchment Catchment - Monthly Evapotranspiration between 2000 - 2020 (MOD16A2GF_500m)
B8: Chart Title 3 | C8: =CONCATENATE(TheCatchmentName," Catchment - Annual Evapotranspiration between 2000 - 2020 (MOD16A2GF_500m)") -> Name of Catchment Catchment - Annual Evapotranspiration between 2000 - 2020 (MOD16A2GF_500m)

Sheet MOD16A2GF-006-Statistics
B1: Paste the MOD16A2GF-006-Statistics.csv file into this table (Data_Original)
B3: File Name | C3: Dataset | D3: aid | E3: Date | F3: Count | G3: Minimum | H3: Maximum | I3: Range | J3: Mean | K3: Standard Deviation | L3: Variance | M3: Upper Quartile | N3: Upper 1.5 IQR | O3: Median | P3: Lower 1.5 IQR | Q3: Lower Quartile
B4: MOD16A2GF_006_ET_500m_doy2000001_aid0001 | C4: ET_500m | D4: aid0001 | E4: 36526 | F4: 596 | G4: 2.4 | H4: 3.6 | I4: (2.4,3.6) | J4: 3.0634228 | K4: 0.3070826 | L4: 0.0942997 | M4: 3.3 | N4: 3.6 | O4: 3.1 | P4: 2.4 | Q4: 2.8

Sheet Data-8d
B1: Paste the Date, 8-day ET & PET into this table (Data_Processed), paste the ET & PET formulas down & check the data in the Chart Data-8d
B2: Below the last day of the year add end of year date BELOW the table. e.g., 31/12/2020.
B3: No. | C3: Date | D3: Month | E3: MOD16A2GF_006_ET_500m (mm/8days) | F3: MOD16A2GF_006_PET_500m (mm/8days) | G3: ET (mm/d) | H3: PET (mm/d) | J3: Formulas - 1st data row (Row 4)
B4: 1 | C4: 36526 | D4: =MONTH(Data_Processed[[#This Row],[Date]]) -> 1 | G4: =Data_Processed[[#This Row],[MOD16A2GF_006_ET_500m (mm/8days)]]/(C5-Data_Processed[[#This Row],[Date]]) -> 0 | H4: =Data_Processed[[#This Row],[MOD16A2GF_006_PET_500m (mm/8days)]]/(C5-Data_Processed[[#This Row],[Date]]) -> 0 | J4: Month | K4: =MONTH([@Date])
B5: 2 | C5: 36534 | D5: =MONTH(Data_Processed[[#This Row],[Date]]) -> 1 | G5: =Data_Processed[[#This Row],[MOD16A2GF_006_ET_500m (mm/8days)]]/(C6-Data_Processed[[#This Row],[Date]]) -> 0 | H5: =Data_Processed[[#This Row],[MOD16A2GF_006_PET_500m (mm/8days)]]/(C6-Data_Processed[[#This Row],[Date]]) -> 0 | J5: ET (mm/d) | K5: =[@[MOD16A2GF_006_ET_500m (mm/8days)]]/(C5-[@Date])
B6: 3 | C6: 36542 | D6: =MONTH(Data_Processed[[#This Row],[Date]]) -> 1 | G6: =Data_Processed[[#This Row],[MOD16A2GF_006_ET_500m (mm/8days)]]/(C7-Data_Processed[[#This Row],[Date]]) -> 0 | H6: =Data_Processed[[#This Row],[MOD16A2GF_006_PET_500m (mm/8days)]]/(C7-Data_Processed[[#This Row],[Date]]) -> 0 | J6: PET (mm/d) | K6: =[@[MOD16A2GF_006_PET_500m (mm/8days)]]/(C5-[@Date])
B7: 4 | C7: 36550 | D7: =MONTH(Data_Processed[[#This Row],[Date]]) -> 1 | G7: =Data_Processed[[#This Row],[MOD16A2GF_006_ET_500m (mm/8days)]]/(C8-Data_Processed[[#This Row],[Date]]) -> 0 | H7: =Data_Processed[[#This Row],[MOD16A2GF_006_PET_500m (mm/8days)]]/(C8-Data_Processed[[#This Row],[Date]]) -> 0
B8: 5 | C8: 36558 | D8: =MONTH(Data_Processed[[#This Row],[Date]]) -> 2 | G8: =Data_Processed[[#This Row],[MOD16A2GF_006_ET_500m (mm/8days)]]/(C9-Data_Processed[[#This Row],[Date]]) -> 0 | H8: =Data_Processed[[#This Row],[MOD16A2GF_006_PET_500m (mm/8days)]]/(C9-Data_Processed[[#This Row],[Date]]) -> 0
B9: 6 | C9: 36566 | D9: =MONTH(Data_Processed[[#This Row],[Date]]) -> 2 | G9: =Data_Processed[[#This Row],[MOD16A2GF_006_ET_500m (mm/8days)]]/(C10-Data_Processed[[#This Row],[Date]]) -> 0 | H9: =Data_Processed[[#This Row],[MOD16A2GF_006_PET_500m (mm/8days)]]/(C10-Data_Processed[[#This Row],[Date]]) -> 0
B10: 7 | C10: 36574 | D10: =MONTH(Data_Processed[[#This Row],[Date]]) -> 2 | G10: =Data_Processed[[#This Row],[MOD16A2GF_006_ET_500m (mm/8days)]]/(C11-Data_Processed[[#This Row],[Date]]) -> 0 | H10: =Data_Processed[[#This Row],[MOD16A2GF_006_PET_500m (mm/8days)]]/(C11-Data_Processed[[#This Row],[Date]]) -> 0
B11: 8 | C11: 36582 | D11: =MONTH(Data_Processed[[#This Row],[Date]]) -> 2 | G11: =Data_Processed[[#This Row],[MOD16A2GF_006_ET_500m (mm/8days)]]/(C12-Data_Processed[[#This Row],[Date]]) -> 0 | H11: =Data_Processed[[#This Row],[MOD16A2GF_006_PET_500m (mm/8days)]]/(C12-Data_Processed[[#This Row],[Date]]) -> 0
B12: 9 | C12: 36590 | D12: =MONTH(Data_Processed[[#This Row],[Date]]) -> 3 | G12: =Data_Processed[[#This Row],[MOD16A2GF_006_ET_500m (mm/8days)]]/(C13-Data_Processed[[#This Row],[Date]]) -> 0 | H12: =Data_Processed[[#This Row],[MOD16A2GF_006_PET_500m (mm/8days)]]/(C13-Data_Processed[[#This Row],[Date]]) -> 0
B13: 10 | C13: 36598 | D13: =MONTH(Data_Processed[[#This Row],[Date]]) -> 3 | G13: =Data_Processed[[#This Row],[MOD16A2GF_006_ET_500m (mm/8days)]]/(C14-Data_Processed[[#This Row],[Date]]) -> 0 | H13: =Data_Processed[[#This Row],[MOD16A2GF_006_PET_500m (mm/8days)]]/(C14-Data_Processed[[#This Row],[Date]]) -> 0
B14: 11 | C14: 36606 | D14: =MONTH(Data_Processed[[#This Row],[Date]]) -> 3 | G14: =Data_Processed[[#This Row],[MOD16A2GF_006_ET_500m (mm/8days)]]/(C15-Data_Processed[[#This Row],[Date]]) -> 0 | H14: =Data_Processed[[#This Row],[MOD16A2GF_006_PET_500m (mm/8days)]]/(C15-Data_Processed[[#This Row],[Date]]) -> 0
B15: 12 | C15: 36614 | D15: =MONTH(Data_Processed[[#This Row],[Date]]) -> 3 | G15: =Data_Processed[[#This Row],[MOD16A2GF_006_ET_500m (mm/8days)]]/(C16-Data_Processed[[#This Row],[Date]]) -> 0 | H15: =Data_Processed[[#This Row],[MOD16A2GF_006_PET_500m (mm/8days)]]/(C16-Data_Processed[[#This Row],[Date]]) -> 0
B16: 13 | C16: 36622 | D16: =MONTH(Data_Processed[[#This Row],[Date]]) -> 4 | G16: =Data_Processed[[#This Row],[MOD16A2GF_006_ET_500m (mm/8days)]]/(C17-Data_Processed[[#This Row],[Date]]) -> 0 | H16: =Data_Processed[[#This Row],[MOD16A2GF_006_PET_500m (mm/8days)]]/(C17-Data_Processed[[#This Row],[Date]]) -> 0
B17: 14 | C17: 36630 | D17: =MONTH(Data_Processed[[#This Row],[Date]]) -> 4 | G17: =Data_Processed[[#This Row],[MOD16A2GF_006_ET_500m (mm/8days)]]/(C18-Data_Processed[[#This Row],[Date]]) -> 0 | H17: =Data_Processed[[#This Row],[MOD16A2GF_006_PET_500m (mm/8days)]]/(C18-Data_Processed[[#This Row],[Date]]) -> 0
B18: 15 | C18: 36638 | D18: =MONTH(Data_Processed[[#This Row],[Date]]) -> 4 | G18: =Data_Processed[[#This Row],[MOD16A2GF_006_ET_500m (mm/8days)]]/(C19-Data_Processed[[#This Row],[Date]]) -> 0 | H18: =Data_Processed[[#This Row],[MOD16A2GF_006_PET_500m (mm/8days)]]/(C19-Data_Processed[[#This Row],[Date]]) -> 0
... B969: 966 | C969: 44191 | D969: =MONTH(Data_Processed[[#This Row],[Date]]) -> 12 | G969: =Data_Processed[[#This Row],[MOD16A2GF_006_ET_500m (mm/8days)]]/(C970-Data_Processed[[#This Row],[Date]]) -> 0 | H969: =Data_Processed[[#This Row],[MOD16A2GF_006_PET_500m (mm/8days)]]/(C970-Data_Processed[[#This Row],[Date]]) -> 0
C970: 44196

Sheet Data-1d
B1: Paste the Date ONLY into this table (Data_Export). It will retrieve the daily ET & PET using INDEX-MATCH
B2: Note: It is currently set up for 01/01/2000 - 31/12/2020.
B3: No. | C3: Date | D3: Month | E3: ET (mm/d) | F3: PET (mm/d) | H3: Formulas in First Row - ROW4
B4: 1 | C4: 36526 | D4: =MONTH(C4) -> 1 | E4: =INDEX(Data_Processed[],MATCH(Data_Export[[#This Row],[Date]],Data_Processed[Date],1),6) -> 0 | F4: =INDEX(Data_Processed[],MATCH(Data_Export[[#This Row],[Date]],Data_Processed[Date],1),7) -> 0 | H4: Month | I4: =MONTH(C4)
B5: 2 | C5: 36527 | D5: =MONTH(C5) -> 1 | E5: =INDEX(Data_Processed[],MATCH(Data_Export[[#This Row],[Date]],Data_Processed[Date],1),6) -> 0 | F5: =INDEX(Data_Processed[],MATCH(Data_Export[[#This Row],[Date]],Data_Processed[Date],1),7) -> 0 | H5: ET (mm/d) | I5: =INDEX(Data_Processed,MATCH([@Date],Data_Processed[Date],1),6)
B6: 3 | C6: 36528 | D6: =MONTH(C6) -> 1 | E6: =INDEX(Data_Processed[],MATCH(Data_Export[[#This Row],[Date]],Data_Processed[Date],1),6) -> 0 | F6: =INDEX(Data_Processed[],MATCH(Data_Export[[#This Row],[Date]],Data_Processed[Date],1),7) -> 0 | H6: PET (mm/d) | I6: =INDEX(Data_Processed,MATCH([@Date],Data_Processed[Date],1),7)
B7: 4 | C7: 36529 | D7: =MONTH(C7) -> 1 | E7: =INDEX(Data_Processed[],MATCH(Data_Export[[#This Row],[Date]],Data_Processed[Date],1),6) -> 0 | F7: =INDEX(Data_Processed[],MATCH(Data_Export[[#This Row],[Date]],Data_Processed[Date],1),7) -> 0
B8: 5 | C8: 36530 | D8: =MONTH(C8) -> 1 | E8: =INDEX(Data_Processed[],MATCH(Data_Export[[#This Row],[Date]],Data_Processed[Date],1),6) -> 0 | F8: =INDEX(Data_Processed[],MATCH(Data_Export[[#This Row],[Date]],Data_Processed[Date],1),7) -> 0
B9: 6 | C9: 36531 | D9: =MONTH(C9) -> 1 | E9: =INDEX(Data_Processed[],MATCH(Data_Export[[#This Row],[Date]],Data_Processed[Date],1),6) -> 0 | F9: =INDEX(Data_Processed[],MATCH(Data_Export[[#This Row],[Date]],Data_Processed[Date],1),7) -> 0
B10: 7 | C10: 36532 | D10: =MONTH(C10) -> 1 | E10: =INDEX(Data_Processed[],MATCH(Data_Export[[#This Row],[Date]],Data_Processed[Date],1),6) -> 0 | F10: =INDEX(Data_Processed[],MATCH(Data_Export[[#This Row],[Date]],Data_Processed[Date],1),7) -> 0
B11: 8 | C11: 36533 | D11: =MONTH(C11) -> 1 | E11: =INDEX(Data_Processed[],MATCH(Data_Export[[#This Row],[Date]],Data_Processed[Date],1),6) -> 0 | F11: =INDEX(Data_Processed[],MATCH(Data_Export[[#This Row],[Date]],Data_Processed[Date],1),7) -> 0
B12: 9 | C12: 36534 | D12: =MONTH(C12) -> 1 | E12: =INDEX(Data_Processed[],MATCH(Data_Export[[#This Row],[Date]],Data_Processed[Date],1),6) -> 0 | F12: =INDEX(Data_Processed[],MATCH(Data_Export[[#This Row],[Date]],Data_Processed[Date],1),7) -> 0
B13: 10 | C13: 36535 | D13: =MONTH(C13) -> 1 | E13: =INDEX(Data_Processed[],MATCH(Data_Export[[#This Row],[Date]],Data_Processed[Date],1),6) -> 0 | F13: =INDEX(Data_Processed[],MATCH(Data_Export[[#This Row],[Date]],Data_Processed[Date],1),7) -> 0
B14: 11 | C14: 36536 | D14: =MONTH(C14) -> 1 | E14: =INDEX(Data_Processed[],MATCH(Data_Export[[#This Row],[Date]],Data_Processed[Date],1),6) -> 0 | F14: =INDEX(Data_Processed[],MATCH(Data_Export[[#This Row],[Date]],Data_Processed[Date],1),7) -> 0
B15: 12 | C15: 36537 | D15: =MONTH(C15) -> 1 | E15: =INDEX(Data_Processed[],MATCH(Data_Export[[#This Row],[Date]],Data_Processed[Date],1),6) -> 0 | F15: =INDEX(Data_Processed[],MATCH(Data_Export[[#This Row],[Date]],Data_Processed[Date],1),7) -> 0
B16: 13 | C16: 36538 | D16: =MONTH(C16) -> 1 | E16: =INDEX(Data_Processed[],MATCH(Data_Export[[#This Row],[Date]],Data_Processed[Date],1),6) -> 0 | F16: =INDEX(Data_Processed[],MATCH(Data_Export[[#This Row],[Date]],Data_Processed[Date],1),7) -> 0
B17: 14 | C17: 36539 | D17: =MONTH(C17) -> 1 | E17: =INDEX(Data_Processed[],MATCH(Data_Export[[#This Row],[Date]],Data_Processed[Date],1),6) -> 0 | F17: =INDEX(Data_Processed[],MATCH(Data_Export[[#This Row],[Date]],Data_Processed[Date],1),7) -> 0
B18: 15 | C18: 36540 | D18: =MONTH(C18) -> 1 | E18: =INDEX(Data_Processed[],MATCH(Data_Export[[#This Row],[Date]],Data_Processed[Date],1),6) -> 0 | F18: =INDEX(Data_Processed[],MATCH(Data_Export[[#This Row],[Date]],Data_Processed[Date],1),7) -> 0
... B7674: 7671 | C7674: 44196 | D7674: =MONTH(C7674) -> 12 | E7674: =INDEX(Data_Processed[],MATCH(Data_Export[[#This Row],[Date]],Data_Processed[Date],1),6) -> 0 | F7674: =INDEX(Data_Processed[],MATCH(Data_Export[[#This Row],[Date]],Data_Processed[Date],1),7) -> 0

Sheet Monthly Average
B1: This Pivot Table calculates the monthly averages from the Data_Export Table. Remove any partial years using the slicer. Right Click & REFRESH!
B3: Row Labels | C3: Average of ET (mm/d) | D3: Average of PET (mm/d) | F3: Month | G3: Days in month | H3: Average of ET (mm/d) | I3: Average of PET (mm/d) | J3: ET (mm/mth) | K3: PET (mm/mth)
B4: 1 | C4: 0.91098819 | D4: 1.9098047 | F4: Jan | G4: 31 | H4: =C4 -> 0.91098819 | I4: =D4 -> 1.9098047 | J4: =C4*G4 -> 28.240634 | K4: =G4*D4 -> 59.203947
B5: 2 | C5: 1.0297361 | D5: 1.9005453 | F5: Feb | G5: 28 | H5: =C5 -> 1.0297361 | I5: =D5 -> 1.9005453 | J5: =C5*G5 -> 28.83261 | K5: =G5*D5 -> 53.215268
B6: 3 | C6: 1.1116076 | D6: 3.0209817 | F6: Mar | G6: 31 | H6: =C6 -> 1.1116076 | I6: =D6 -> 3.0209817 | J6: =C6*G6 -> 34.459834 | K6: =G6*D6 -> 93.650433
B7: 4 | C7: 0.99620785 | D7: 4.8969202 | F7: Apr | G7: 30 | H7: =C7 -> 0.99620785 | I7: =D7 -> 4.8969202 | J7: =C7*G7 -> 29.886236 | K7: =G7*D7 -> 146.90761
B8: 5 | C8: 0.72058446 | D8: 6.6447048 | F8: May | G8: 31 | H8: =C8 -> 0.72058446 | I8: =D8 -> 6.6447048 | J8: =C8*G8 -> 22.338118 | K8: =G8*D8 -> 205.98585
B9: 6 | C9: 0.42461729 | D9: 8.249739 | F9: Jun | G9: 30 | H9: =C9 -> 0.42461729 | I9: =D9 -> 8.249739 | J9: =C9*G9 -> 12.738519 | K9: =G9*D9 -> 247.49217
B10: 7 | C10: 0.34286642 | D10: 8.8848293 | F10: Jul | G10: 31 | H10: =C10 -> 0.34286642 | I10: =D10 -> 8.8848293 | J10: =C10*G10 -> 10.628859 | K10: =G10*D10 -> 275.42971
B11: 8 | C11: 0.28074719 | D11: 8.4134617 | F11: Aug | G11: 31 | H11: =C11 -> 0.28074719 | I11: =D11 -> 8.4134617 | J11: =C11*G11 -> 8.703163 | K11: =G11*D11 -> 260.81731
B12: 9 | C12: 0.20951133 | D12: 7.3609627 | F12: Sep | G12: 30 | H12: =C12 -> 0.20951133 | I12: =D12 -> 7.3609627 | J12: =C12*G12 -> 6.2853398 | K12: =G12*D12 -> 220.82888
B13: 10 | C13: 0.27284231 | D13: 5.8573533 | F13: Oct | G13: 31 | H13: =C13 -> 0.27284231 | I13: =D13 -> 5.8573533 | J13: =C13*G13 -> 8.4581116 | K13: =G13*D13 -> 181.57795
B14: 11 | C14: 0.57260686 | D14: 3.808709 | F14: Nov | G14: 30 | H14: =C14 -> 0.57260686 | I14: =D14 -> 3.808709 | J14: =C14*G14 -> 17.178206 | K14: =G14*D14 -> 114.26127
B15: 12 | C15: 0.78145009 | D15: 2.5720155 | F15: Dec | G15: 31 | H15: =C15 -> 0.78145009 | I15: =D15 -> 2.5720155 | J15: =C15*G15 -> 24.224953 | K15: =G15*D15 -> 79.73248
B16: Average | C16: 0.63585513 | D16: 5.3099418 | F16: Average | H16: =AVERAGE(H4:H15) -> 0.6378138 | I16: =AVERAGE(I4:I15) -> 5.2933356 | J16: =AVERAGE(J4:J15) -> 19.331215 | K16: =AVERAGE(K4:K15) -> 161.59191
B18: Annual | C18: =GETPIVOTDATA("Average of ET (mm/d)",$B$3)*365 -> 232.08712 | D18: =GETPIVOTDATA("Average of PET (mm/d)",$B$3)*365 -> 1938.1288 | E18: mm/a | G18: Annual | J18: =SUM(J4:J15) -> 231.97458 | K18: =SUM(K4:K15) -> 1939.1029

Sheet Time Series -mnth
A3: Row Labels | B3: Sum of ET (mm/d)
A4: 2000 | B4: 178.17013
A5: 1 | B5: 25.003482
A6: 2 | B6: 29.795596
A7: 3 | B7: 31.638507
A8: 4 | B8: 16.202936
A9: 5 | B9: 7.0472315
A10: 6 | B10: 6.5353607
A11: 7 | B11: 5.5155831
A12: 8 | B12: 3.1055998
A13: 9 | B13: 3.2511746
A14: 10 | B14: 5.8186451
A15: 11 | B15: 18.170365
A16: 12 | B16: 26.085654
A17: 2001 | B17: 161.01443
A18: 1 | B18: 27.644631
A19: 2 | B19: 28.512773
A20: 3 | B20: 24.531229
A21: 4 | B21: 17.003985
A22: 5 | B22: 7.2708683
A23: 6 | B23: 7.0525378
A24: 7 | B24: 6.0032719
A25: 8 | B25: 5.2756502
A26: 9 | B26: 3.0491401
A27: 10 | B27: 4.5785655
A28: 11 | B28: 8.200042
A29: 12 | B29: 21.891737
A30: 2002 | B30: 178.43372
A31: 1 | B31: 24.067177
A32: 2 | B32: 29.136242
A33: 3 | B33: 18.966003
A34: 4 | B34: 19.554572
A35: 5 | B35: 13.687143
A36: 6 | B36: 7.3871644
A37: 7 | B37: 6.4126888
A38: 8 | B38: 4.1134438
A39: 9 | B39: 3.7851929
A40: 10 | B40: 6.7611787
A41: 11 | B41: 19.369337
A42: 12 | B42: 25.193582
A43: 2003 | B43: 216.8906
A44: 1 | B44: 31.907907
A45: 2 | B45: 28.29052
A46: 3 | B46: 34.962395
A47: 4 | B47: 23.311829
A48: 5 | B48: 19.621938
A49: 6 | B49: 8.2348993
A50: 7 | B50: 9.0073405
A51: 8 | B51: 6.5091863
A52: 9 | B52: 6.3514471
A53: 10 | B53: 3.8268667
A54: 11 | B54: 17.285906
A55: 12 | B55: 27.580369
A56: 2004 | B56: 190.44748
A57: 1 | B57: 31.484417
A58: 2 | B58: 31.626657
A59: 3 | B59: 17.82844
A60: 4 | B60: 17.767953
A61: 5 | B61: 12.62307
A62: 6 | B62: 7.9609061
A63: 7 | B63: 8.2778314
A64: 8 | B64: 5.2692325
A65: 9 | B65: 5.1592701
A66: 10 | B66: 12.578754
A67: 11 | B67: 14.865814
A68: 12 | B68: 25.005138
A69: 2005 | B69: 239.14027
A70: 1 | B70: 29.145029
A71: 2 | B71: 27.29633
A72: 3 | B72: 41.839346
A73: 4 | B73: 31.957383
A74: 5 | B74: 33.433494
A75: 6 | B75: 18.345428
A76: 7 | B76: 9.5817323
A77: 8 | B77: 7.5041317
A78: 9 | B78: 4.1464345
A79: 10 | B79: 4.9280411
A80: 11 | B80: 14.145218
A81: 12 | B81: 16.817701
A82: 2006 | B82: 203.75654
A83: 1 | B83: 27.770302
A84: 2 | B84: 30.386263
A85: 3 | B85: 26.430935
A86: 4 | B86: 19.869883
A87: 5 | B87: 12.350776
A88: 6 | B88: 7.9991191
A89: 7 | B89: 7.2519504
A90: 8 | B90: 5.9830118
A91: 9 | B91: 4.2850671
A92: 10 | B92: 9.5981962
A93: 11 | B93: 22.58276
A94: 12 | B94: 29.24828
A95: 2007 | B95: 230.89631
A96: 1 | B96: 31.655998
A97: 2 | B97: 30.433872
A98: 3 | B98: 43.134291
A99: 4 | B99: 31.906879
A100: 5 | B100: 23.879048
A101: 6 | B101: 13.016904
A102: 7 | B102: 11.231732
...

Sheet Time Series - year
A3: Row Labels | B3: Sum of ET (mm/d)
A4: 2000 | B4: 178.17013
A5: 2001 | B5: 161.01443
A6: 2002 | B6: 178.43372
A7: 2003 | B7: 216.8906
A8: 2004 | B8: 190.44748
A9: 2005 | B9: 239.14027
A10: 2006 | B10: 203.75654
A11: 2007 | B11: 230.89631
A12: 2008 | B12: 200.59664
A13: 2009 | B13: 278.2198
A14: 2010 | B14: 231.84228
A15: 2011 | B15: 218.81846
... A25: Grand Total | B25: 4877.6447

Sheet Report
C47: Month | D47: Days in month | E47: ET (mm/d) | F47: PET (mm/d) | G47: ET (mm/mth) | H47: PET (mm/mth)
C48: ='Monthly Average'!F4 -> Jan | D48: ='Monthly Average'!G4 -> 31 | E48: ='Monthly Average'!H4 -> 0.91098819 | F48: ='Monthly Average'!I4 -> 1.9098047 | G48: ='Monthly Average'!J4 -> 28.240634 | H48: ='Monthly Average'!K4 -> 59.203947
C49: ='Monthly Average'!F5 -> Feb | D49: ='Monthly Average'!G5 -> 28 | E49: ='Monthly Average'!H5 -> 1.0297361 | F49: ='Monthly Average'!I5 -> 1.9005453 | G49: ='Monthly Average'!J5 -> 28.83261 | H49: ='Monthly Average'!K5 -> 53.215268
C50: ='Monthly Average'!F6 -> Mar | D50: ='Monthly Average'!G6 -> 31 | E50: ='Monthly Average'!H6 -> 1.1116076 | F50: ='Monthly Average'!I6 -> 3.0209817 | G50: ='Monthly Average'!J6 -> 34.459834 | H50: ='Monthly Average'!K6 -> 93.650433
C51: ='Monthly Average'!F7 -> Apr | D51: ='Monthly Average'!G7 -> 30 | E51: ='Monthly Average'!H7 -> 0.99620785 | F51: ='Monthly Average'!I7 -> 4.8969202 | G51: ='Monthly Average'!J7 -> 29.886236 | H51: ='Monthly Average'!K7 -> 146.90761
C52: ='Monthly Average'!F8 -> May | D52: ='Monthly Average'!G8 -> 31 | E52: ='Monthly Average'!H8 -> 0.72058446 | F52: ='Monthly Average'!I8 -> 6.6447048 | G52: ='Monthly Average'!J8 -> 22.338118 | H52: ='Monthly Average'!K8 -> 205.98585
C53: ='Monthly Average'!F9 -> Jun | D53: ='Monthly Average'!G9 -> 30 | E53: ='Monthly Average'!H9 -> 0.42461729 | F53: ='Monthly Average'!I9 -> 8.249739 | G53: ='Monthly Average'!J9 -> 12.738519 | H53: ='Monthly Average'!K9 -> 247.49217
C54: ='Monthly Average'!F10 -> Jul | D54: ='Monthly Average'!G10 -> 31 | E54: ='Monthly Average'!H10 -> 0.34286642 | F54: ='Monthly Average'!I10 -> 8.8848293 | G54: ='Monthly Average'!J10 -> 10.628859 | H54: ='Monthly Average'!K10 -> 275.42971
C55: ='Monthly Average'!F11 -> Aug | D55: ='Monthly Average'!G11 -> 31 | E55: ='Monthly Average'!H11 -> 0.28074719 | F55: ='Monthly Average'!I11 -> 8.4134617 | G55: ='Monthly Average'!J11 -> 8.703163 | H55: ='Monthly Average'!K11 -> 260.81731
C56: ='Monthly Average'!F12 -> Sep | D56: ='Monthly Average'!G12 -> 30 | E56: ='Monthly Average'!H12 -> 0.20951133 | F56: ='Monthly Average'!I12 -> 7.3609627 | G56: ='Monthly Average'!J12 -> 6.2853398 | H56: ='Monthly Average'!K12 -> 220.82888
C57: ='Monthly Average'!F13 -> Oct | D57: ='Monthly Average'!G13 -> 31 | E57: ='Monthly Average'!H13 -> 0.27284231 | F57: ='Monthly Average'!I13 -> 5.8573533 | G57: ='Monthly Average'!J13 -> 8.4581116 | H57: ='Monthly Average'!K13 -> 181.57795
C58: ='Monthly Average'!F14 -> Nov | D58: ='Monthly Average'!G14 -> 30 | E58: ='Monthly Average'!H14 -> 0.57260686 | F58: ='Monthly Average'!I14 -> 3.808709 | G58: ='Monthly Average'!J14 -> 17.178206 | H58: ='Monthly Average'!K14 -> 114.26127
C59: ='Monthly Average'!F15 -> Dec | D59: ='Monthly Average'!G15 -> 31 | E59: ='Monthly Average'!H15 -> 0.78145009 | F59: ='Monthly Average'!I15 -> 2.5720155 | G59: ='Monthly Average'!J15 -> 24.224953 | H59: ='Monthly Average'!K15 -> 79.73248
C60: ='Monthly Average'!F16 -> Average | E60: ='Monthly Average'!H16 -> 0.6378138 | F60: ='Monthly Average'!I16 -> 5.2933356 | G60: ='Monthly Average'!J16 -> 19.331215 | H60: ='Monthly Average'!K16 -> 161.59191
D62: Annual | G62: =SUM(G48:G59) -> 231.97458 | H62: =SUM(H48:H59) -> 1939.1029
